BEGIN:VCALENDAR
VERSION:2.0
PRODID:-//time.now/holidays//NONSGML v1.0//EN
BEGIN:VEVENT
UID:0aade4c7-055a-4a2b-8527-92bfcda6ac64
DTSTAMP:20260420T173121Z
DTSTART;VALUE=DATE:20260101
SUMMARY:New Year's Day (Japón)
END:VEVENT
END:VCALENDAR