BEGIN:VCALENDAR
VERSION:2.0
PRODID:-//time.now/holidays//NONSGML v1.0//EN
BEGIN:VEVENT
UID:3c16187d-9c3a-453e-880a-e61477965533
DTSTAMP:20260420T205313Z
DTSTART;VALUE=DATE:20261123
SUMMARY:Labor Thanksgiving Day (Japón)
END:VEVENT
END:VCALENDAR