BEGIN:VCALENDAR
VERSION:2.0
PRODID:-//time.now/holidays//NONSGML v1.0//EN
BEGIN:VEVENT
UID:8be2265c-8a5d-4032-b3b9-5c07f026fb7c
DTSTAMP:20260420T063817Z
DTSTART;VALUE=DATE:20260211
SUMMARY:Foundation Day (Japón)
END:VEVENT
END:VCALENDAR