BEGIN:VCALENDAR
VERSION:2.0
PRODID:-//time.now/holidays//NONSGML v1.0//EN
BEGIN:VEVENT
UID:3e3c593b-fd4f-407b-bd72-fd36c9e73de3
DTSTAMP:20260420T021435Z
DTSTART;VALUE=DATE:20260503
SUMMARY:Constitution Day (Japón)
END:VEVENT
END:VCALENDAR