BEGIN:VCALENDAR
VERSION:2.0
PRODID:-//time.now/holidays//NONSGML v1.0//EN
BEGIN:VEVENT
UID:509fde99-c285-427b-b4e1-dcdbac1862ea
DTSTAMP:20260420T202922Z
DTSTART;VALUE=DATE:20260101
SUMMARY:New Year's Day (Jamaica)
END:VEVENT
END:VCALENDAR