BEGIN:VCALENDAR
VERSION:2.0
PRODID:-//time.now/holidays//NONSGML v1.0//EN
BEGIN:VEVENT
UID:1c0f860d-02b2-4c8d-a815-4ce0f39b0ebc
DTSTAMP:20260420T174452Z
DTSTART;VALUE=DATE:20260806
SUMMARY:Independence Day (Jamaica)
END:VEVENT
END:VCALENDAR