BEGIN:VCALENDAR
VERSION:2.0
PRODID:-//time.now/holidays//NONSGML v1.0//EN
BEGIN:VEVENT
UID:0be13502-4d89-478a-a9a4-f2a5165c5cd1
DTSTAMP:20260420T170221Z
DTSTART;VALUE=DATE:20280807
SUMMARY:Independence Day (observed) (Jamaica)
END:VEVENT
END:VCALENDAR