BEGIN:VCALENDAR
VERSION:2.0
PRODID:-//time.now/holidays//NONSGML v1.0//EN
BEGIN:VEVENT
UID:e55e82e0-5d78-4845-a956-889be31ccc4f
DTSTAMP:20260420T105128Z
DTSTART;VALUE=DATE:20260403
SUMMARY:Good Friday (Jamaica)
END:VEVENT
END:VCALENDAR