BEGIN:VCALENDAR
VERSION:2.0
PRODID:-//time.now/holidays//NONSGML v1.0//EN
BEGIN:VEVENT
UID:0b0b383f-e26e-4a10-b33e-ab66517cc173
DTSTAMP:20260420T191858Z
DTSTART;VALUE=DATE:20271227
SUMMARY:Boxing Day (observed) (Jamaica)
END:VEVENT
END:VCALENDAR