BEGIN:VCALENDAR
VERSION:2.0
PRODID:-//time.now/holidays//NONSGML v1.0//EN
BEGIN:VEVENT
UID:02e065fa-5d9a-42fc-804b-d01b694df263
DTSTAMP:20260420T024513Z
DTSTART;VALUE=DATE:20261113
SUMMARY:Sant'Omobono (Italia)
END:VEVENT
END:VCALENDAR