BEGIN:VCALENDAR
VERSION:2.0
PRODID:-//time.now/holidays//NONSGML v1.0//EN
BEGIN:VEVENT
UID:230e3012-c7a9-483c-9ecc-818f81533002
DTSTAMP:20260422T133635Z
DTSTART;VALUE=DATE:20260629
SUMMARY:Santi Pietro e Paolo (Italia)
END:VEVENT
END:VCALENDAR