BEGIN:VCALENDAR
VERSION:2.0
PRODID:-//time.now/holidays//NONSGML v1.0//EN
BEGIN:VEVENT
UID:2993b0ba-4ede-4c1f-8be1-5c56a3bf0cb6
DTSTAMP:20260422T091305Z
DTSTART;VALUE=DATE:20260316
SUMMARY:Santi Ilario e Taziano (Italia)
END:VEVENT
END:VCALENDAR