BEGIN:VCALENDAR
VERSION:2.0
PRODID:-//time.now/holidays//NONSGML v1.0//EN
BEGIN:VEVENT
UID:e4bf8002-9e59-4d20-99d9-0b18ca4bd1fb
DTSTAMP:20260420T095957Z
DTSTART;VALUE=DATE:20260805
SUMMARY:Sant'Emidio (Italia)
END:VEVENT
END:VCALENDAR