BEGIN:VCALENDAR
VERSION:2.0
PRODID:-//time.now/holidays//NONSGML v1.0//EN
BEGIN:VEVENT
UID:08e11fac-74f2-452c-b08b-bb9d3912df45
DTSTAMP:20260420T081422Z
DTSTART;VALUE=DATE:20261201
SUMMARY:Sant'Ansano (Italia)
END:VEVENT
END:VCALENDAR