BEGIN:VCALENDAR
VERSION:2.0
PRODID:-//time.now/holidays//NONSGML v1.0//EN
BEGIN:VEVENT
UID:609dbef9-9903-4e4f-8d32-5c08093423be
DTSTAMP:20260422T083757Z
DTSTART;VALUE=DATE:20260826
SUMMARY:Sant'Alessandro di Bergamo (Italia)
END:VEVENT
END:VCALENDAR