BEGIN:VCALENDAR
VERSION:2.0
PRODID:-//time.now/holidays//NONSGML v1.0//EN
BEGIN:VEVENT
UID:f7660783-fec2-4b6d-982a-9dd53f35cc92
DTSTAMP:20260420T174424Z
DTSTART;VALUE=DATE:20260205
SUMMARY:Sant'Agata (Italia)
END:VEVENT
END:VCALENDAR