BEGIN:VCALENDAR
VERSION:2.0
PRODID:-//time.now/holidays//NONSGML v1.0//EN
BEGIN:VEVENT
UID:cd0a2326-6960-42ef-937e-f81f2b35a4d3
DTSTAMP:20260420T213715Z
DTSTART;VALUE=DATE:20260904
SUMMARY:Santa Rosa da Viterbo (Italia)
END:VEVENT
END:VCALENDAR