BEGIN:VCALENDAR
VERSION:2.0
PRODID:-//time.now/holidays//NONSGML v1.0//EN
BEGIN:VEVENT
UID:88e585d0-18aa-4f08-9ec7-fc6ef0089598
DTSTAMP:20260420T211700Z
DTSTART;VALUE=DATE:20260706
SUMMARY:Santa Maria Goretti (Italia)
END:VEVENT
END:VCALENDAR