BEGIN:VCALENDAR
VERSION:2.0
PRODID:-//time.now/holidays//NONSGML v1.0//EN
BEGIN:VEVENT
UID:8a865388-cd55-4e34-99c4-5cb5558244aa
DTSTAMP:20260420T185818Z
DTSTART;VALUE=DATE:20261213
SUMMARY:Santa Lucia (Italia)
END:VEVENT
END:VCALENDAR