BEGIN:VCALENDAR
VERSION:2.0
PRODID:-//time.now/holidays//NONSGML v1.0//EN
BEGIN:VEVENT
UID:632d75f2-e2f5-488d-9f8d-8aeeb6aebc64
DTSTAMP:20260420T195457Z
DTSTART;VALUE=DATE:20260811
SUMMARY:Santa Chiara d'Assisi (Italia)
END:VEVENT
END:VCALENDAR