BEGIN:VCALENDAR
VERSION:2.0
PRODID:-//time.now/holidays//NONSGML v1.0//EN
BEGIN:VEVENT
UID:a50657b1-93a6-40bc-b1dc-ed16276336cd
DTSTAMP:20260420T170539Z
DTSTART;VALUE=DATE:20260626
SUMMARY:San Vigilio (Italia)
END:VEVENT
END:VCALENDAR