BEGIN:VCALENDAR
VERSION:2.0
PRODID:-//time.now/holidays//NONSGML v1.0//EN
BEGIN:VEVENT
UID:44a27159-6780-4bd2-9e65-01df7c85c8b3
DTSTAMP:20260420T201558Z
DTSTART;VALUE=DATE:20260214
SUMMARY:San Valentino (Italia)
END:VEVENT
END:VCALENDAR