BEGIN:VCALENDAR
VERSION:2.0
PRODID:-//time.now/holidays//NONSGML v1.0//EN
BEGIN:VEVENT
UID:be94c157-151e-42f1-ae4d-3f32552195a9
DTSTAMP:20260422T151428Z
DTSTART;VALUE=DATE:20261124
SUMMARY:San Prospero Vescovo (Italia)
END:VEVENT
END:VCALENDAR