BEGIN:VCALENDAR
VERSION:2.0
PRODID:-//time.now/holidays//NONSGML v1.0//EN
BEGIN:VEVENT
UID:ad91ecf8-41c9-4dfd-949c-06a56ab0e667
DTSTAMP:20260420T202357Z
DTSTART;VALUE=DATE:20261206
SUMMARY:San Nicola (Italia)
END:VEVENT
END:VCALENDAR