BEGIN:VCALENDAR
VERSION:2.0
PRODID:-//time.now/holidays//NONSGML v1.0//EN
BEGIN:VEVENT
UID:bd482eef-351e-47fb-acb2-71a3ea77cad7
DTSTAMP:20260420T164712Z
DTSTART;VALUE=DATE:20260929
SUMMARY:San Michele Arcangelo (Italia)
END:VEVENT
END:VCALENDAR