BEGIN:VCALENDAR
VERSION:2.0
PRODID:-//time.now/holidays//NONSGML v1.0//EN
BEGIN:VEVENT
UID:34fb7864-45b0-4cec-8907-ab4b2f76f43b
DTSTAMP:20260422T205907Z
DTSTART;VALUE=DATE:20260921
SUMMARY:San Matteo Evangelista (Italia)
END:VEVENT
END:VCALENDAR