BEGIN:VCALENDAR
VERSION:2.0
PRODID:-//time.now/holidays//NONSGML v1.0//EN
BEGIN:VEVENT
UID:28e0f440-0fd2-46de-8228-cd75fafa3ebc
DTSTAMP:20260420T191746Z
DTSTART;VALUE=DATE:20260810
SUMMARY:San Lorenzo (Italia)
END:VEVENT
END:VCALENDAR