BEGIN:VCALENDAR
VERSION:2.0
PRODID:-//time.now/holidays//NONSGML v1.0//EN
BEGIN:VEVENT
UID:c34e01a3-bb79-4d8d-bc2a-c295dd4aa1ce
DTSTAMP:20260420T151604Z
DTSTART;VALUE=DATE:20260301
SUMMARY:San Leoluca (Italia)
END:VEVENT
END:VCALENDAR