BEGIN:VCALENDAR
VERSION:2.0
PRODID:-//time.now/holidays//NONSGML v1.0//EN
BEGIN:VEVENT
UID:5359f506-3e54-4173-98de-8d82e3a4d5cf
DTSTAMP:20260422T090124Z
DTSTART;VALUE=DATE:20260831
SUMMARY:San Giuliano l'ospitaliere (Italia)
END:VEVENT
END:VCALENDAR