BEGIN:VCALENDAR
VERSION:2.0
PRODID:-//time.now/holidays//NONSGML v1.0//EN
BEGIN:VEVENT
UID:c2e0b9a1-db21-4d01-9097-409f1395dcce
DTSTAMP:20260422T090606Z
DTSTART;VALUE=DATE:20260624
SUMMARY:San Giovanni Battista (Italia)
END:VEVENT
END:VCALENDAR