BEGIN:VCALENDAR
VERSION:2.0
PRODID:-//time.now/holidays//NONSGML v1.0//EN
BEGIN:VEVENT
UID:4d76f40e-d765-45c1-b96f-b0fb6954be61
DTSTAMP:20260420T162509Z
DTSTART;VALUE=DATE:20260225
SUMMARY:San Gerlando (Italia)
END:VEVENT
END:VCALENDAR