BEGIN:VCALENDAR
VERSION:2.0
PRODID:-//time.now/holidays//NONSGML v1.0//EN
BEGIN:VEVENT
UID:c0a71e29-3082-43fa-b9b6-707604cd26b7
DTSTAMP:20260422T085038Z
DTSTART;VALUE=DATE:20260530
SUMMARY:San Gerardo di Potenza (Italia)
END:VEVENT
END:VCALENDAR