BEGIN:VCALENDAR
VERSION:2.0
PRODID:-//time.now/holidays//NONSGML v1.0//EN
BEGIN:VEVENT
UID:9269dd15-bfaa-419c-bf16-36eac4ced7d3
DTSTAMP:20260420T194812Z
DTSTART;VALUE=DATE:20260131
SUMMARY:San Geminiano (Italia)
END:VEVENT
END:VCALENDAR