BEGIN:VCALENDAR
VERSION:2.0
PRODID:-//time.now/holidays//NONSGML v1.0//EN
BEGIN:VEVENT
UID:3a7174c9-2aac-4194-851f-5cf3ac30bc5c
DTSTAMP:20260422T134443Z
DTSTART;VALUE=DATE:20260119
SUMMARY:San Bassiano (Italia)
END:VEVENT
END:VCALENDAR