BEGIN:VCALENDAR
VERSION:2.0
PRODID:-//time.now/holidays//NONSGML v1.0//EN
BEGIN:VEVENT
UID:f3b88efb-e8ec-4724-b29d-9ab07e882e71
DTSTAMP:20260420T035217Z
DTSTART;VALUE=DATE:20261225
SUMMARY:Natale (Italia)
END:VEVENT
END:VCALENDAR