BEGIN:VCALENDAR
VERSION:2.0
PRODID:-//time.now/holidays//NONSGML v1.0//EN
BEGIN:VEVENT
UID:ef8fde53-233c-428a-809d-aa77c6ee1be6
DTSTAMP:20260422T091325Z
DTSTART;VALUE=DATE:20260425
SUMMARY:Festa della Liberazione (Italia)
END:VEVENT
END:VCALENDAR