BEGIN:VCALENDAR
VERSION:2.0
PRODID:-//time.now/holidays//NONSGML v1.0//EN
BEGIN:VEVENT
UID:03e02ec6-d591-41c5-93bc-1c3dcc093fea
DTSTAMP:20260422T090319Z
DTSTART;VALUE=DATE:20260501
SUMMARY:Festa dei Lavoratori (Italia)
END:VEVENT
END:VCALENDAR