BEGIN:VCALENDAR
VERSION:2.0
PRODID:-//time.now/holidays//NONSGML v1.0//EN
BEGIN:VEVENT
UID:1d93b847-8a87-42d7-abbf-32e59912cdb9
DTSTAMP:20260424T131815Z
DTSTART;VALUE=DATE:20260815
SUMMARY:Assunzione della Vergine; Maria Santissima Assunta (Italia)
END:VEVENT
END:VCALENDAR