BEGIN:VCALENDAR
VERSION:2.0
PRODID:-//time.now/holidays//NONSGML v1.0//EN
BEGIN:VEVENT
UID:9465f136-00fd-46e8-a389-f00c219349f3
DTSTAMP:20260422T092304Z
DTSTART;VALUE=DATE:20260525
SUMMARY:Spring Bank Holiday (Isla de Man)
END:VEVENT
END:VCALENDAR