BEGIN:VCALENDAR
VERSION:2.0
PRODID:-//time.now/holidays//NONSGML v1.0//EN
BEGIN:VEVENT
UID:13d6e03d-f449-46c2-bacc-17170a8a52e3
DTSTAMP:20260422T193239Z
DTSTART;VALUE=DATE:20260403
SUMMARY:Good Friday (Isla de Man)
END:VEVENT
END:VCALENDAR