BEGIN:VCALENDAR
VERSION:2.0
PRODID:-//time.now/holidays//NONSGML v1.0//EN
BEGIN:VEVENT
UID:8dd57963-a11d-410b-826e-3152b4ef6883
DTSTAMP:20260422T091344Z
DTSTART;VALUE=DATE:20261225
SUMMARY:Christmas Day (Isla de Man)
END:VEVENT
END:VCALENDAR