BEGIN:VCALENDAR
VERSION:2.0
PRODID:-//time.now/holidays//NONSGML v1.0//EN
BEGIN:VEVENT
UID:0cef39ea-575d-44d8-89ab-db6af0b8a06b
DTSTAMP:20260422T091516Z
DTSTART;VALUE=DATE:20261228
SUMMARY:Boxing Day (observed) (Isla de Man)
END:VEVENT
END:VCALENDAR