BEGIN:VCALENDAR
VERSION:2.0
PRODID:-//time.now/holidays//NONSGML v1.0//EN
BEGIN:VEVENT
UID:c1bb9e2f-3ab3-46a6-8670-86843513c113
DTSTAMP:20260420T123927Z
DTSTART;VALUE=DATE:20261226
SUMMARY:Saint Stephen's Day (Irlanda)
END:VEVENT
END:VCALENDAR