BEGIN:VCALENDAR
VERSION:2.0
PRODID:-//time.now/holidays//NONSGML v1.0//EN
BEGIN:VEVENT
UID:36e57f7f-2686-4e2f-9543-d17a13801a3c
DTSTAMP:20260422T090320Z
DTSTART;VALUE=DATE:20261026
SUMMARY:October Bank Holiday (Irlanda)
END:VEVENT
END:VCALENDAR