BEGIN:VCALENDAR
VERSION:2.0
PRODID:-//time.now/holidays//NONSGML v1.0//EN
BEGIN:VEVENT
UID:23dffaa2-38e2-4872-a10a-0e9eb9175db6
DTSTAMP:20260420T190441Z
DTSTART;VALUE=DATE:20260101
SUMMARY:New Year's Day (Irlanda)
END:VEVENT
END:VCALENDAR