BEGIN:VCALENDAR
VERSION:2.0
PRODID:-//time.now/holidays//NONSGML v1.0//EN
BEGIN:VEVENT
UID:4740e3fe-0c53-429e-a5f2-03758be66dcf
DTSTAMP:20260421T035630Z
DTSTART;VALUE=DATE:20280321
SUMMARY:Martyrdom of Imam Ja'far al-Sadiq (estimated); Nowruz Holiday (Irán)
END:VEVENT
END:VCALENDAR