BEGIN:VCALENDAR
VERSION:2.0
PRODID:-//time.now/holidays//NONSGML v1.0//EN
BEGIN:VEVENT
UID:2bdf32ff-7817-4556-9623-56e43cda9fb8
DTSTAMP:20260422T103753Z
DTSTART;VALUE=DATE:20230412
SUMMARY:Martyrdom of Imam Ali (Irán)
END:VEVENT
END:VCALENDAR