BEGIN:VCALENDAR
VERSION:2.0
PRODID:-//time.now/holidays//NONSGML v1.0//EN
BEGIN:VEVENT
UID:ab82b5e4-a0ed-4746-8494-48849a713858
DTSTAMP:20260420T231744Z
DTSTART;VALUE=DATE:20260310
SUMMARY:Martyrdom of Imam Ali (estimated) (Irán)
END:VEVENT
END:VCALENDAR