BEGIN:VCALENDAR
VERSION:2.0
PRODID:-//time.now/holidays//NONSGML v1.0//EN
BEGIN:VEVENT
UID:7b4bc4ca-a4a7-4ad7-a579-2583a3631f91
DTSTAMP:20260422T091941Z
DTSTART;VALUE=DATE:20261113
SUMMARY:Martyrdom of Fatima (estimated) (Irán)
END:VEVENT
END:VCALENDAR