BEGIN:VCALENDAR
VERSION:2.0
PRODID:-//time.now/holidays//NONSGML v1.0//EN
BEGIN:VEVENT
UID:72fe55c0-9c35-4923-8020-dc4a6c0f2f81
DTSTAMP:20260421T005751Z
DTSTART;VALUE=DATE:20250824
SUMMARY:Martyrdom of Ali al-Rida (Irán)
END:VEVENT
END:VCALENDAR